BEGIN:VCALENDAR
VERSION:2.0
PRODID:-//Melody Bar and Grill - ECPv6.15.13.1//NONSGML v1.0//EN
CALSCALE:GREGORIAN
METHOD:PUBLISH
X-ORIGINAL-URL:https://www.melodylax.com
X-WR-CALDESC:Events for Melody Bar and Grill
REFRESH-INTERVAL;VALUE=DURATION:PT1H
X-Robots-Tag:noindex
X-PUBLISHED-TTL:PT1H
BEGIN:VTIMEZONE
TZID:America/Los_Angeles
BEGIN:DAYLIGHT
TZOFFSETFROM:-0800
TZOFFSETTO:-0700
TZNAME:PDT
DTSTART:20250309T100000
END:DAYLIGHT
BEGIN:STANDARD
TZOFFSETFROM:-0700
TZOFFSETTO:-0800
TZNAME:PST
DTSTART:20251102T090000
END:STANDARD
BEGIN:DAYLIGHT
TZOFFSETFROM:-0800
TZOFFSETTO:-0700
TZNAME:PDT
DTSTART:20260308T100000
END:DAYLIGHT
BEGIN:STANDARD
TZOFFSETFROM:-0700
TZOFFSETTO:-0800
TZNAME:PST
DTSTART:20261101T090000
END:STANDARD
BEGIN:DAYLIGHT
TZOFFSETFROM:-0800
TZOFFSETTO:-0700
TZNAME:PDT
DTSTART:20270314T100000
END:DAYLIGHT
BEGIN:STANDARD
TZOFFSETFROM:-0700
TZOFFSETTO:-0800
TZNAME:PST
DTSTART:20271107T090000
END:STANDARD
BEGIN:DAYLIGHT
TZOFFSETFROM:-0800
TZOFFSETTO:-0700
TZNAME:PDT
DTSTART:20280312T100000
END:DAYLIGHT
BEGIN:STANDARD
TZOFFSETFROM:-0700
TZOFFSETTO:-0800
TZNAME:PST
DTSTART:20281105T090000
END:STANDARD
END:VTIMEZONE
BEGIN:VEVENT
DTSTART;TZID=America/Los_Angeles:20261004T170000
DTEND;TZID=America/Los_Angeles:20261004T210000
DTSTAMP:20260423T032438
CREATED:20260405T205257Z
LAST-MODIFIED:20260405T205257Z
UID:10001086-1791133200-1791147600@www.melodylax.com
SUMMARY:MLB Division Series Game 2: Where To Watch Near LAX
DESCRIPTION:MLB Division Series Game 2: Where To Watch Near LAX\n      10/4/2026 • 17:00–21:00 PT\n    \n\n      MLB 2026 • MLB Division Series (NLDS/ALDS) • Full Bar • Multiple Screens\n      \n        Westchester • Minutes from LAX • No Cover\n      \n     \n \n   \n⚾ MLB Division Series Game 2: Where To Watch Near LAX live on the big screens near LAX. \nWhere To Watch MLB Division Series (NLDS/ALDS) Near LAX\nLooking for the best place to watch the MLB Division Series (NLDS/ALDS) near LAX? Melody Bar & Grill in Westchester is your postseason watch party home—multiple big screens\, a fired-up crowd\, and a full bar. \nDivision Series Game 2! The road to the World Series runs through October—catch every play at Melody Bar & Grill near LAX. \nWe’re located at 9132 S. Sepulveda Blvd\, Los Angeles\, CA 90045—easy parking\, rideshare-friendly\, and minutes from LAX. \n\n⚾ Division Series Game 2 Details \n\nEvent: MLB Division Series Game 2: Where To Watch Near LAX\nDate: 10/4/2026\nTime: 17:00–21:00 PT\nEntry: No cover • Walk-ins welcome\nLocation: Melody Bar & Grill — Westchester (near LAX)\n\nHappy Hour Before the Game\nHappy Hour every day from 3–6PM. Get there early\, grab discounted drinks\, and be ready for first pitch. \nView Happy Hour Menu \nDrinks Menu\nFull cocktails\, beer\, and wine selection available all game long. \nView Cocktail\, Beer & Wine Menu \n\nPlanning a Large Group?\nCall us at (310) 670-1994 or email melodylax@gmail.com for group seating. \n    View Upcoming Events →
URL:https://www.melodylax.com/event/mlb-division-series-game-2-where-to-watch-near-lax/
CATEGORIES:MLB,Playoffs,Sports Bar
END:VEVENT
BEGIN:VEVENT
DTSTART;TZID=America/Los_Angeles:20261006T170000
DTEND;TZID=America/Los_Angeles:20261006T210000
DTSTAMP:20260423T032438
CREATED:20260405T205340Z
LAST-MODIFIED:20260405T205340Z
UID:10001087-1791306000-1791320400@www.melodylax.com
SUMMARY:MLB Division Series Game 3: Where To Watch Near LAX
DESCRIPTION:MLB Division Series Game 3: Where To Watch Near LAX\n      10/6/2026 • 17:00–21:00 PT\n    \n\n      MLB 2026 • MLB Division Series (NLDS/ALDS) • Full Bar • Multiple Screens\n      \n        Westchester • Minutes from LAX • No Cover\n      \n     \n \n   \n⚾ MLB Division Series Game 3: Where To Watch Near LAX live on the big screens near LAX. \nWhere To Watch MLB Division Series (NLDS/ALDS) Near LAX\nLooking for the best place to watch the MLB Division Series (NLDS/ALDS) near LAX? Melody Bar & Grill in Westchester is your postseason watch party home—multiple big screens\, a fired-up crowd\, and a full bar. \nDivision Series Game 3 at Melody! October baseball is unlike anything else—join us near LAX for the biggest games of the year. \nWe’re located at 9132 S. Sepulveda Blvd\, Los Angeles\, CA 90045—easy parking\, rideshare-friendly\, and minutes from LAX. \n\n⚾ Division Series Game 3 Details \n\nEvent: MLB Division Series Game 3: Where To Watch Near LAX\nDate: 10/6/2026\nTime: 17:00–21:00 PT\nEntry: No cover • Walk-ins welcome\nLocation: Melody Bar & Grill — Westchester (near LAX)\n\nHappy Hour Before the Game\nHappy Hour every day from 3–6PM. Get there early\, grab discounted drinks\, and be ready for first pitch. \nView Happy Hour Menu \nDrinks Menu\nFull cocktails\, beer\, and wine selection available all game long. \nView Cocktail\, Beer & Wine Menu \n\nPlanning a Large Group?\nCall us at (310) 670-1994 or email melodylax@gmail.com for group seating. \n    View Upcoming Events →
URL:https://www.melodylax.com/event/mlb-division-series-game-3-where-to-watch-near-lax/
CATEGORIES:MLB,Playoffs,Sports Bar
ATTACH;FMTTYPE=image/webp:https://www.melodylax.com/wp-content/uploads/2026/04/where-to-watch-mlb-playoffs-near-lax.webp
END:VEVENT
BEGIN:VEVENT
DTSTART;TZID=America/Los_Angeles:20261010T170000
DTEND;TZID=America/Los_Angeles:20261010T210000
DTSTAMP:20260423T032438
CREATED:20260405T205341Z
LAST-MODIFIED:20260405T205341Z
UID:10001088-1791651600-1791666000@www.melodylax.com
SUMMARY:MLB League Championship Series Game 1: Where To Watch Near LAX
DESCRIPTION:MLB League Championship Series Game 1: Where To Watch Near LAX\n      10/10/2026 • 17:00–21:00 PT\n    \n\n      MLB 2026 • MLB League Championship Series (NLCS/ALCS) • Full Bar • Multiple Screens\n      \n        Westchester • Minutes from LAX • No Cover\n      \n     \n \n   \n⚾ MLB League Championship Series Game 1: Where To Watch Near LAX live on the big screens near LAX. \nWhere To Watch MLB League Championship Series (NLCS/ALCS) Near LAX\nLooking for the best place to watch the MLB League Championship Series (NLCS/ALCS) near LAX? Melody Bar & Grill in Westchester is your postseason watch party home—multiple big screens\, a fired-up crowd\, and a full bar. \nNLCS & ALCS are underway! One win away from the World Series. The pressure is on and Melody Bar & Grill near LAX is the place to be. \nWe’re located at 9132 S. Sepulveda Blvd\, Los Angeles\, CA 90045—easy parking\, rideshare-friendly\, and minutes from LAX. \n\n⚾ League Championship Game 1 Details \n\nEvent: MLB League Championship Series Game 1: Where To Watch Near LAX\nDate: 10/10/2026\nTime: 17:00–21:00 PT\nEntry: No cover • Walk-ins welcome\nLocation: Melody Bar & Grill — Westchester (near LAX)\n\nHappy Hour Before the Game\nHappy Hour every day from 3–6PM. Get there early\, grab discounted drinks\, and be ready for first pitch. \nView Happy Hour Menu \nDrinks Menu\nFull cocktails\, beer\, and wine selection available all game long. \nView Cocktail\, Beer & Wine Menu \n\nPlanning a Large Group?\nCall us at (310) 670-1994 or email melodylax@gmail.com for group seating. \n    View Upcoming Events →
URL:https://www.melodylax.com/event/mlb-league-championship-series-game-1-where-to-watch-near-lax/
CATEGORIES:MLB,Playoffs,Sports Bar
ATTACH;FMTTYPE=image/webp:https://www.melodylax.com/wp-content/uploads/2026/04/where-to-watch-mlb-playoffs-near-lax.webp
END:VEVENT
BEGIN:VEVENT
DTSTART;TZID=America/Los_Angeles:20261012T170000
DTEND;TZID=America/Los_Angeles:20261012T210000
DTSTAMP:20260423T032438
CREATED:20260405T205342Z
LAST-MODIFIED:20260405T205342Z
UID:10001089-1791824400-1791838800@www.melodylax.com
SUMMARY:MLB League Championship Series Game 2: Where To Watch Near LAX
DESCRIPTION:MLB League Championship Series Game 2: Where To Watch Near LAX\n      10/12/2026 • 17:00–21:00 PT\n    \n\n      MLB 2026 • MLB League Championship Series (NLCS/ALCS) • Full Bar • Multiple Screens\n      \n        Westchester • Minutes from LAX • No Cover\n      \n     \n \n   \n⚾ MLB League Championship Series Game 2: Where To Watch Near LAX live on the big screens near LAX. \nWhere To Watch MLB League Championship Series (NLCS/ALCS) Near LAX\nLooking for the best place to watch the MLB League Championship Series (NLCS/ALCS) near LAX? Melody Bar & Grill in Westchester is your postseason watch party home—multiple big screens\, a fired-up crowd\, and a full bar. \nLeague Championship Game 2! One series away from the Fall Classic. Come watch the action at Melody near LAX. \nWe’re located at 9132 S. Sepulveda Blvd\, Los Angeles\, CA 90045—easy parking\, rideshare-friendly\, and minutes from LAX. \n\n⚾ League Championship Game 2 Details \n\nEvent: MLB League Championship Series Game 2: Where To Watch Near LAX\nDate: 10/12/2026\nTime: 17:00–21:00 PT\nEntry: No cover • Walk-ins welcome\nLocation: Melody Bar & Grill — Westchester (near LAX)\n\nHappy Hour Before the Game\nHappy Hour every day from 3–6PM. Get there early\, grab discounted drinks\, and be ready for first pitch. \nView Happy Hour Menu \nDrinks Menu\nFull cocktails\, beer\, and wine selection available all game long. \nView Cocktail\, Beer & Wine Menu \n\nPlanning a Large Group?\nCall us at (310) 670-1994 or email melodylax@gmail.com for group seating. \n    View Upcoming Events →
URL:https://www.melodylax.com/event/mlb-league-championship-series-game-2-where-to-watch-near-lax/
CATEGORIES:MLB,Playoffs,Sports Bar
ATTACH;FMTTYPE=image/webp:https://www.melodylax.com/wp-content/uploads/2026/04/where-to-watch-mlb-playoffs-near-lax.webp
END:VEVENT
BEGIN:VEVENT
DTSTART;TZID=America/Los_Angeles:20261014T170000
DTEND;TZID=America/Los_Angeles:20261014T210000
DTSTAMP:20260423T032438
CREATED:20260405T205343Z
LAST-MODIFIED:20260405T205343Z
UID:10001090-1791997200-1792011600@www.melodylax.com
SUMMARY:MLB League Championship Series Game 3: Where To Watch Near LAX
DESCRIPTION:MLB League Championship Series Game 3: Where To Watch Near LAX\n      10/14/2026 • 17:00–21:00 PT\n    \n\n      MLB 2026 • MLB League Championship Series (NLCS/ALCS) • Full Bar • Multiple Screens\n      \n        Westchester • Minutes from LAX • No Cover\n      \n     \n \n   \n⚾ MLB League Championship Series Game 3: Where To Watch Near LAX live on the big screens near LAX. \nWhere To Watch MLB League Championship Series (NLCS/ALCS) Near LAX\nLooking for the best place to watch the MLB League Championship Series (NLCS/ALCS) near LAX? Melody Bar & Grill in Westchester is your postseason watch party home—multiple big screens\, a fired-up crowd\, and a full bar. \nLeague Championship Game 3! The World Series spot is there for the taking. Don’t miss a pitch at Melody Bar & Grill near LAX. \nWe’re located at 9132 S. Sepulveda Blvd\, Los Angeles\, CA 90045—easy parking\, rideshare-friendly\, and minutes from LAX. \n\n⚾ League Championship Game 3 Details \n\nEvent: MLB League Championship Series Game 3: Where To Watch Near LAX\nDate: 10/14/2026\nTime: 17:00–21:00 PT\nEntry: No cover • Walk-ins welcome\nLocation: Melody Bar & Grill — Westchester (near LAX)\n\nHappy Hour Before the Game\nHappy Hour every day from 3–6PM. Get there early\, grab discounted drinks\, and be ready for first pitch. \nView Happy Hour Menu \nDrinks Menu\nFull cocktails\, beer\, and wine selection available all game long. \nView Cocktail\, Beer & Wine Menu \n\nPlanning a Large Group?\nCall us at (310) 670-1994 or email melodylax@gmail.com for group seating. \n    View Upcoming Events →
URL:https://www.melodylax.com/event/mlb-league-championship-series-game-3-where-to-watch-near-lax/
CATEGORIES:MLB,Playoffs,Sports Bar
ATTACH;FMTTYPE=image/webp:https://www.melodylax.com/wp-content/uploads/2026/04/where-to-watch-mlb-playoffs-near-lax.webp
END:VEVENT
BEGIN:VEVENT
DTSTART;TZID=America/Los_Angeles:20261023T170000
DTEND;TZID=America/Los_Angeles:20261023T210000
DTSTAMP:20260423T032438
CREATED:20260405T205344Z
LAST-MODIFIED:20260405T205344Z
UID:10001091-1792774800-1792789200@www.melodylax.com
SUMMARY:MLB World Series Game 1: Where To Watch Near LAX
DESCRIPTION:MLB World Series Game 1: Where To Watch Near LAX\n      10/23/2026 • 17:00–21:00 PT\n    \n\n      MLB 2026 • MLB World Series 2026 • Full Bar • Multiple Screens\n      \n        Westchester • Minutes from LAX • No Cover\n      \n     \n \n   \n⚾ MLB World Series Game 1: Where To Watch Near LAX live on the big screens near LAX. \nWhere To Watch MLB World Series 2026 Near LAX\nLooking for the best place to watch the MLB World Series 2026 near LAX? Melody Bar & Grill in Westchester is your postseason watch party home—multiple big screens\, a fired-up crowd\, and a full bar. \nTHE WORLD SERIES IS HERE! Game 1 of the Fall Classic 2026. Watch baseball’s biggest stage live at Melody Bar & Grill near LAX. No cover—walk-ins welcome. \nWe’re located at 9132 S. Sepulveda Blvd\, Los Angeles\, CA 90045—easy parking\, rideshare-friendly\, and minutes from LAX. \n\n⚾ World Series Game 1 Details \n\nEvent: MLB World Series Game 1: Where To Watch Near LAX\nDate: 10/23/2026\nTime: 17:00–21:00 PT\nEntry: No cover • Walk-ins welcome\nLocation: Melody Bar & Grill — Westchester (near LAX)\n\nHappy Hour Before the Game\nHappy Hour every day from 3–6PM. Get there early\, grab discounted drinks\, and be ready for first pitch. \nView Happy Hour Menu \nDrinks Menu\nFull cocktails\, beer\, and wine selection available all game long. \nView Cocktail\, Beer & Wine Menu \n\nPlanning a Large Group?\nCall us at (310) 670-1994 or email melodylax@gmail.com for group seating. \n    View Upcoming Events →
URL:https://www.melodylax.com/event/mlb-world-series-game-1-where-to-watch-near-lax/
CATEGORIES:MLB,Playoffs,Sports Bar
ATTACH;FMTTYPE=image/webp:https://www.melodylax.com/wp-content/uploads/2026/04/where-to-watch-world-series-near-lax.webp
END:VEVENT
BEGIN:VEVENT
DTSTART;TZID=America/Los_Angeles:20261024T170000
DTEND;TZID=America/Los_Angeles:20261024T210000
DTSTAMP:20260423T032438
CREATED:20260405T205358Z
LAST-MODIFIED:20260405T205358Z
UID:10001092-1792861200-1792875600@www.melodylax.com
SUMMARY:MLB World Series Game 2: Where To Watch Near LAX
DESCRIPTION:MLB World Series Game 2: Where To Watch Near LAX\n      10/24/2026 • 17:00–21:00 PT\n    \n\n      MLB 2026 • MLB World Series 2026 • Full Bar • Multiple Screens\n      \n        Westchester • Minutes from LAX • No Cover\n      \n     \n \n   \n⚾ MLB World Series Game 2: Where To Watch Near LAX live on the big screens near LAX. \nWhere To Watch MLB World Series 2026 Near LAX\nLooking for the best place to watch the MLB World Series 2026 near LAX? Melody Bar & Grill in Westchester is your postseason watch party home—multiple big screens\, a fired-up crowd\, and a full bar. \nWorld Series Game 2! Championship baseball doesn’t get bigger than this. Pull up a stool at Melody near LAX and watch history. \nWe’re located at 9132 S. Sepulveda Blvd\, Los Angeles\, CA 90045—easy parking\, rideshare-friendly\, and minutes from LAX. \n\n⚾ World Series Game 2 Details \n\nEvent: MLB World Series Game 2: Where To Watch Near LAX\nDate: 10/24/2026\nTime: 17:00–21:00 PT\nEntry: No cover • Walk-ins welcome\nLocation: Melody Bar & Grill — Westchester (near LAX)\n\nHappy Hour Before the Game\nHappy Hour every day from 3–6PM. Get there early\, grab discounted drinks\, and be ready for first pitch. \nView Happy Hour Menu \nDrinks Menu\nFull cocktails\, beer\, and wine selection available all game long. \nView Cocktail\, Beer & Wine Menu \n\nPlanning a Large Group?\nCall us at (310) 670-1994 or email melodylax@gmail.com for group seating. \n    View Upcoming Events →
URL:https://www.melodylax.com/event/mlb-world-series-game-2-where-to-watch-near-lax/
CATEGORIES:MLB,Playoffs,Sports Bar
ATTACH;FMTTYPE=image/webp:https://www.melodylax.com/wp-content/uploads/2026/04/where-to-watch-world-series-near-lax.webp
END:VEVENT
BEGIN:VEVENT
DTSTART;TZID=America/Los_Angeles:20261026T170000
DTEND;TZID=America/Los_Angeles:20261026T210000
DTSTAMP:20260423T032438
CREATED:20260405T205359Z
LAST-MODIFIED:20260405T205359Z
UID:10001093-1793034000-1793048400@www.melodylax.com
SUMMARY:MLB World Series Game 3: Where To Watch Near LAX
DESCRIPTION:MLB World Series Game 3: Where To Watch Near LAX\n      10/26/2026 • 17:00–21:00 PT\n    \n\n      MLB 2026 • MLB World Series 2026 • Full Bar • Multiple Screens\n      \n        Westchester • Minutes from LAX • No Cover\n      \n     \n \n   \n⚾ MLB World Series Game 3: Where To Watch Near LAX live on the big screens near LAX. \nWhere To Watch MLB World Series 2026 Near LAX\nLooking for the best place to watch the MLB World Series 2026 near LAX? Melody Bar & Grill in Westchester is your postseason watch party home—multiple big screens\, a fired-up crowd\, and a full bar. \nWorld Series Game 3 at Melody! The intensity is through the roof. Cheer on the Dodgers as they chase their third straight championship. \nWe’re located at 9132 S. Sepulveda Blvd\, Los Angeles\, CA 90045—easy parking\, rideshare-friendly\, and minutes from LAX. \n\n⚾ World Series Game 3 Details \n\nEvent: MLB World Series Game 3: Where To Watch Near LAX\nDate: 10/26/2026\nTime: 17:00–21:00 PT\nEntry: No cover • Walk-ins welcome\nLocation: Melody Bar & Grill — Westchester (near LAX)\n\nHappy Hour Before the Game\nHappy Hour every day from 3–6PM. Get there early\, grab discounted drinks\, and be ready for first pitch. \nView Happy Hour Menu \nDrinks Menu\nFull cocktails\, beer\, and wine selection available all game long. \nView Cocktail\, Beer & Wine Menu \n\nPlanning a Large Group?\nCall us at (310) 670-1994 or email melodylax@gmail.com for group seating. \n    View Upcoming Events →
URL:https://www.melodylax.com/event/mlb-world-series-game-3-where-to-watch-near-lax/
CATEGORIES:MLB,Playoffs,Sports Bar
ATTACH;FMTTYPE=image/webp:https://www.melodylax.com/wp-content/uploads/2026/04/where-to-watch-world-series-near-lax.webp
END:VEVENT
BEGIN:VEVENT
DTSTART;TZID=America/Los_Angeles:20270214T150000
DTEND;TZID=America/Los_Angeles:20270214T190000
DTSTAMP:20260423T032438
CREATED:20260109T042048Z
LAST-MODIFIED:20260331T182846Z
UID:10000737-1802617200-1802631600@www.melodylax.com
SUMMARY:Where to Watch the Super Bowl West Los Angeles
DESCRIPTION:Where to Watch the Super Bowl in West Los Angeles | Melody Bar & Grill\n    \n\n      Super Bowl LXI Party Los Angeles • Sports Bar Near LAX\n      \n        Westchester • Massive HD Screens • Doors Open Early\n      \n     \n \n  \n   \n\n    🏈 Super Bowl Sunday starts early at Melody — brunch\, drinks\, and every play on big screens.\n   \n   \n\n\n✈️\n\nAs Featured In \nBusiness Traveller — “Where to Watch the Super Bowl Around the World” \n\n          Melody Bar & Grill was recognized as a top destination for Super Bowl viewing near LAX.  \n          Read the article →\n         \n\n\n\n   \n\n    Super Bowl LXI 2027 at Melody Bar & Grill – Westchester’s Ultimate Game Day Brunch\n  \n\n    Looking for where to watch the Super Bowl in West Los Angeles? Spend Super Bowl LXI on Valentine’s Day\, February 14\, 2027 at\n    Melody Bar & Grill — the best sports bar near LAX for game day. This year it’s extra special: the game is coming home\, played just minutes away at SoFi Stadium in Inglewood. We’re opening early so you can lock in a great seat and kick off the biggest football day of the year with our NFL Sunday Brunch.\n   \n\n    As featured in Business Traveller‘s guide to the best Super Bowl watch spots around the world\, Melody is the go-to destination for locals and international travelers alike — and with SoFi Stadium right in our backyard\, 2027 is the year to be here.\n   \n   \n\n    🏟️ Super Bowl LXI is at SoFi Stadium — just minutes from Melody. Whether you’re flying in through LAX or coming from across LA\, we’re the closest great sports bar to all the action.\n  \n  \n   \n\n    The crowd at Melody on game day — arrive early for the best spot.\n   \n   \n\n    \n    \n  \n   \n\n    Open Early – Start with NFL Sunday Brunch\n  \n\n    Come hungry. Our brunch menu is stacked with favorites perfect for a long day of football. Pair it with\n    bottomless mimosas\, Bloody Marys\, Micheladas\, and more — then settle in for kickoff.\n   \n  \n   \n\n    Mimosas\, Bloody Marys\, Micheladas & more — all game day long.\n   \n   \n\n🏟️ What You Can Expect \n\nDoors open early — arrive for the best seating\nMassive HD screens throughout the bar\nFull brunch menu + game day food\nBig drink lineup: mimosas\, Bloody Marys\, Micheladas & more\nWestchester location — minutes from LAX & SoFi Stadium\n\n   \n\n    The Best Place to Watch the Super Bowl Near LAX\n  \n\n    Located at 9132 S. Sepulveda Blvd. in Westchester\, Melody Bar & Grill is the go-to spot for locals\, travelers\, and anyone searching for a true Super Bowl watch party in Los Angeles. Great sightlines\, big sound\, and a game-day atmosphere that actually feels like the big game — and recognized by Business Traveller as one of the best Super Bowl viewing destinations in the world.\n   \n   \n\n    \n      View Drinks & Specials\n    \n   \n   \n\n    Food\, Drinks & Game Day Favorites\n  \n\n    Make it an all-day hang. Bring your crew\, order a round\, and keep the table full — our bar and grill menu is built for watching sports: shareables\, burgers\, wings\, and plenty of options to fuel the full Sunday run.\n   \n  \n   \n\n    Great food\, great drinks\, great atmosphere — all day every game day.\n   \n   \n\n    \n      View Full Menu\n    \n   \n   \n\n    Super Bowl LXI 2027 – Plan Your Day\n  \n  \n   \n\n    Steps from LAX\, minutes from SoFi — the easiest game day decision you’ll make.\n   \n   \n\n📅 Event Details \n\nDate: Sunday\, February 14\, 2027 (Valentine’s Day)\nDoors: Open Early — arrive for the best seats\nKickoff: ~3:30 PM PST (TBC by NFL)\nGame Location: SoFi Stadium\, Inglewood (minutes away)\nWatch Party: Melody Bar & Grill\, Westchester\n\n   \n\n    Don’t Miss Updates\n  \n\n    Follow us for Super Bowl LXI updates\, drink specials\, and announcements leading up to game day. If you’re planning to come with a group\, arrive early — this one fills up fast\, especially with the game right here in LA.\n   \n   \n\n    \n      Follow @melodylax\n    \n    \n      Follow on Facebook\n    \n   \n   \n\n📍 Where to Find Us \nEvent: Super Bowl LXI Watch Party — West Los Angeles \nDate: Sunday\, February 14\, 2027 \nDoors: Open Early  |  Kickoff: ~3:30 PM PST (TBC) \nLocation: Melody Bar & Grill – 9132 S Sepulveda Blvd\, Los Angeles\, CA 90045 \n \n   \n\n    \n      View Upcoming Events →
URL:https://www.melodylax.com/event/where-to-watch-the-super-bowl-west-los-angeles/
LOCATION:Melody Bar & Grill LAX\, 9132 S Sepulveda Blvd\, Los Angeles\, California\, 90045\, United States
CATEGORIES:Football,Sports Bar
ATTACH;FMTTYPE=image/png:https://www.melodylax.com/wp-content/uploads/2025/11/super-bowl-party-west-los-angeles.png
ORGANIZER;CN="Melody Bar & Grill LAX":MAILTO:melodylax@gmail.com
END:VEVENT
END:VCALENDAR